BEGIN:VCALENDAR
VERSION:2.0
PRODID:-//Home - ECPv6.15.20//NONSGML v1.0//EN
CALSCALE:GREGORIAN
METHOD:PUBLISH
X-WR-CALNAME:Home
X-ORIGINAL-URL:https://www.newcenturyacademy.com
X-WR-CALDESC:Events for Home
REFRESH-INTERVAL;VALUE=DURATION:PT1H
X-Robots-Tag:noindex
X-PUBLISHED-TTL:PT1H
BEGIN:VTIMEZONE
TZID:America/Chicago
BEGIN:DAYLIGHT
TZOFFSETFROM:-0600
TZOFFSETTO:-0500
TZNAME:CDT
DTSTART:20250309T080000
END:DAYLIGHT
BEGIN:STANDARD
TZOFFSETFROM:-0500
TZOFFSETTO:-0600
TZNAME:CST
DTSTART:20251102T070000
END:STANDARD
BEGIN:DAYLIGHT
TZOFFSETFROM:-0600
TZOFFSETTO:-0500
TZNAME:CDT
DTSTART:20260308T080000
END:DAYLIGHT
BEGIN:STANDARD
TZOFFSETFROM:-0500
TZOFFSETTO:-0600
TZNAME:CST
DTSTART:20261101T070000
END:STANDARD
BEGIN:DAYLIGHT
TZOFFSETFROM:-0600
TZOFFSETTO:-0500
TZNAME:CDT
DTSTART:20270314T080000
END:DAYLIGHT
BEGIN:STANDARD
TZOFFSETFROM:-0500
TZOFFSETTO:-0600
TZNAME:CST
DTSTART:20271107T070000
END:STANDARD
END:VTIMEZONE
BEGIN:VEVENT
DTSTART;TZID=America/Chicago:20260423T151500
DTEND;TZID=America/Chicago:20260423T160000
DTSTAMP:20260423T032049
CREATED:20260122T155523Z
LAST-MODIFIED:20260122T155817Z
UID:10000238-1776957300-1776960000@www.newcenturyacademy.com
SUMMARY:Special Olympics Activity
DESCRIPTION:Gym Reserved
URL:https://www.newcenturyacademy.com/event/special-olympics-activity/2026-04-23/
END:VEVENT
BEGIN:VEVENT
DTSTART;TZID=America/Chicago:20260423T173000
DTEND;TZID=America/Chicago:20260423T190000
DTSTAMP:20260423T032049
CREATED:20260209T145357Z
LAST-MODIFIED:20260211T174109Z
UID:10000254-1776965400-1776970800@www.newcenturyacademy.com
SUMMARY:HYBA(6th Grade) Basketball Practice
DESCRIPTION:Gym Reserved
URL:https://www.newcenturyacademy.com/event/hyba6th-grade-basketball-practice-2/2026-04-23/
END:VEVENT
BEGIN:VEVENT
DTSTART;TZID=America/Chicago:20260427T151500
DTEND;TZID=America/Chicago:20260427T160000
DTSTAMP:20260423T032049
CREATED:20260122T155523Z
LAST-MODIFIED:20260122T155817Z
UID:10000239-1777302900-1777305600@www.newcenturyacademy.com
SUMMARY:Special Olympics Activity
DESCRIPTION:Gym Reserved
URL:https://www.newcenturyacademy.com/event/special-olympics-activity/2026-04-27/
END:VEVENT
BEGIN:VEVENT
DTSTART;TZID=America/Chicago:20260427T173000
DTEND;TZID=America/Chicago:20260427T190000
DTSTAMP:20260423T032049
CREATED:20260209T145357Z
LAST-MODIFIED:20260211T174109Z
UID:10000255-1777311000-1777316400@www.newcenturyacademy.com
SUMMARY:HYBA(6th Grade) Basketball Practice
DESCRIPTION:Gym Reserved
URL:https://www.newcenturyacademy.com/event/hyba6th-grade-basketball-practice-2/2026-04-27/
END:VEVENT
BEGIN:VEVENT
DTSTART;TZID=America/Chicago:20260430T151500
DTEND;TZID=America/Chicago:20260430T160000
DTSTAMP:20260423T032049
CREATED:20260122T155523Z
LAST-MODIFIED:20260122T155817Z
UID:10000240-1777562100-1777564800@www.newcenturyacademy.com
SUMMARY:Special Olympics Activity
DESCRIPTION:Gym Reserved
URL:https://www.newcenturyacademy.com/event/special-olympics-activity/2026-04-30/
END:VEVENT
BEGIN:VEVENT
DTSTART;TZID=America/Chicago:20260430T173000
DTEND;TZID=America/Chicago:20260430T190000
DTSTAMP:20260423T032049
CREATED:20260209T145357Z
LAST-MODIFIED:20260211T174109Z
UID:10000256-1777570200-1777575600@www.newcenturyacademy.com
SUMMARY:HYBA(6th Grade) Basketball Practice
DESCRIPTION:Gym Reserved
URL:https://www.newcenturyacademy.com/event/hyba6th-grade-basketball-practice-2/2026-04-30/
END:VEVENT
BEGIN:VEVENT
DTSTART;TZID=America/Chicago:20260503T180000
DTEND;TZID=America/Chicago:20260503T193000
DTSTAMP:20260423T032049
CREATED:20260402T140150Z
LAST-MODIFIED:20260402T140150Z
UID:10000282-1777831200-1777836600@www.newcenturyacademy.com
SUMMARY:Private Basketball Rental: Trevor Elhard
DESCRIPTION:Gym Reserved
URL:https://www.newcenturyacademy.com/event/private-basketball-rental-trevor-elhard/2026-05-03/
END:VEVENT
BEGIN:VEVENT
DTSTART;TZID=America/Chicago:20260504T173000
DTEND;TZID=America/Chicago:20260504T190000
DTSTAMP:20260423T032049
CREATED:20260209T145357Z
LAST-MODIFIED:20260211T174109Z
UID:10000257-1777915800-1777921200@www.newcenturyacademy.com
SUMMARY:HYBA(6th Grade) Basketball Practice
DESCRIPTION:Gym Reserved
URL:https://www.newcenturyacademy.com/event/hyba6th-grade-basketball-practice-2/2026-05-04/
END:VEVENT
BEGIN:VEVENT
DTSTART;TZID=America/Chicago:20260507T173000
DTEND;TZID=America/Chicago:20260507T190000
DTSTAMP:20260423T032049
CREATED:20260209T145357Z
LAST-MODIFIED:20260211T174109Z
UID:10000258-1778175000-1778180400@www.newcenturyacademy.com
SUMMARY:HYBA(6th Grade) Basketball Practice
DESCRIPTION:Gym Reserved
URL:https://www.newcenturyacademy.com/event/hyba6th-grade-basketball-practice-2/2026-05-07/
END:VEVENT
BEGIN:VEVENT
DTSTART;TZID=America/Chicago:20260511T173000
DTEND;TZID=America/Chicago:20260511T190000
DTSTAMP:20260423T032049
CREATED:20260209T145357Z
LAST-MODIFIED:20260211T174109Z
UID:10000259-1778520600-1778526000@www.newcenturyacademy.com
SUMMARY:HYBA(6th Grade) Basketball Practice
DESCRIPTION:Gym Reserved
URL:https://www.newcenturyacademy.com/event/hyba6th-grade-basketball-practice-2/2026-05-11/
END:VEVENT
BEGIN:VEVENT
DTSTART;TZID=America/Chicago:20260512T120000
DTEND;TZID=America/Chicago:20260512T200000
DTSTAMP:20260423T032049
CREATED:20260421T145247Z
LAST-MODIFIED:20260421T145247Z
UID:10000283-1778587200-1778616000@www.newcenturyacademy.com
SUMMARY:NHS Ceremony
DESCRIPTION:Gym and Lobby/Cafeteria Reserved
URL:https://www.newcenturyacademy.com/event/nhs-ceremony-2/
END:VEVENT
BEGIN:VEVENT
DTSTART;TZID=America/Chicago:20260514T173000
DTEND;TZID=America/Chicago:20260514T190000
DTSTAMP:20260423T032049
CREATED:20260209T145357Z
LAST-MODIFIED:20260211T174109Z
UID:10000260-1778779800-1778785200@www.newcenturyacademy.com
SUMMARY:HYBA(6th Grade) Basketball Practice
DESCRIPTION:Gym Reserved
URL:https://www.newcenturyacademy.com/event/hyba6th-grade-basketball-practice-2/2026-05-14/
END:VEVENT
BEGIN:VEVENT
DTSTART;TZID=America/Chicago:20260518T173000
DTEND;TZID=America/Chicago:20260518T190000
DTSTAMP:20260423T032049
CREATED:20260209T145357Z
LAST-MODIFIED:20260211T174109Z
UID:10000261-1779125400-1779130800@www.newcenturyacademy.com
SUMMARY:HYBA(6th Grade) Basketball Practice
DESCRIPTION:Gym Reserved
URL:https://www.newcenturyacademy.com/event/hyba6th-grade-basketball-practice-2/2026-05-18/
END:VEVENT
BEGIN:VEVENT
DTSTART;TZID=America/Chicago:20260521T173000
DTEND;TZID=America/Chicago:20260521T190000
DTSTAMP:20260423T032049
CREATED:20260209T145357Z
LAST-MODIFIED:20260211T174109Z
UID:10000262-1779384600-1779390000@www.newcenturyacademy.com
SUMMARY:HYBA(6th Grade) Basketball Practice
DESCRIPTION:Gym Reserved
URL:https://www.newcenturyacademy.com/event/hyba6th-grade-basketball-practice-2/2026-05-21/
END:VEVENT
BEGIN:VEVENT
DTSTART;TZID=America/Chicago:20260526T173000
DTEND;TZID=America/Chicago:20260526T190000
DTSTAMP:20260423T032049
CREATED:20260209T145357Z
LAST-MODIFIED:20260211T174109Z
UID:10000263-1779816600-1779822000@www.newcenturyacademy.com
SUMMARY:HYBA(6th Grade) Basketball Practice
DESCRIPTION:Gym Reserved
URL:https://www.newcenturyacademy.com/event/hyba6th-grade-basketball-practice-2/2026-05-26/
END:VEVENT
BEGIN:VEVENT
DTSTART;TZID=America/Chicago:20260527T173000
DTEND;TZID=America/Chicago:20260527T190000
DTSTAMP:20260423T032049
CREATED:20260209T145357Z
LAST-MODIFIED:20260211T174109Z
UID:10000267-1779903000-1779908400@www.newcenturyacademy.com
SUMMARY:HYBA(6th Grade) Basketball Practice
DESCRIPTION:Gym Reserved
URL:https://www.newcenturyacademy.com/event/hyba6th-grade-basketball-practice-2/2026-05-27/
END:VEVENT
END:VCALENDAR