BEGIN:VCALENDAR
VERSION:2.0
PRODID:-//Home - ECPv6.15.20//NONSGML v1.0//EN
CALSCALE:GREGORIAN
METHOD:PUBLISH
X-WR-CALNAME:Home
X-ORIGINAL-URL:https://www.newcenturyacademy.com
X-WR-CALDESC:Events for Home
REFRESH-INTERVAL;VALUE=DURATION:PT1H
X-Robots-Tag:noindex
X-PUBLISHED-TTL:PT1H
BEGIN:VTIMEZONE
TZID:America/Chicago
BEGIN:DAYLIGHT
TZOFFSETFROM:-0600
TZOFFSETTO:-0500
TZNAME:CDT
DTSTART:20250309T080000
END:DAYLIGHT
BEGIN:STANDARD
TZOFFSETFROM:-0500
TZOFFSETTO:-0600
TZNAME:CST
DTSTART:20251102T070000
END:STANDARD
BEGIN:DAYLIGHT
TZOFFSETFROM:-0600
TZOFFSETTO:-0500
TZNAME:CDT
DTSTART:20260308T080000
END:DAYLIGHT
BEGIN:STANDARD
TZOFFSETFROM:-0500
TZOFFSETTO:-0600
TZNAME:CST
DTSTART:20261101T070000
END:STANDARD
BEGIN:DAYLIGHT
TZOFFSETFROM:-0600
TZOFFSETTO:-0500
TZNAME:CDT
DTSTART:20270314T080000
END:DAYLIGHT
BEGIN:STANDARD
TZOFFSETFROM:-0500
TZOFFSETTO:-0600
TZNAME:CST
DTSTART:20271107T070000
END:STANDARD
END:VTIMEZONE
BEGIN:VEVENT
DTSTART;TZID=America/Chicago:20260402T190000
DTEND;TZID=America/Chicago:20260402T203000
DTSTAMP:20260423T044902
CREATED:20260327T165755Z
LAST-MODIFIED:20260327T170405Z
UID:10000277-1775156400-1775161800@www.newcenturyacademy.com
SUMMARY:Central United Rush Practice U16
DESCRIPTION:Gym Reserved
URL:https://www.newcenturyacademy.com/event/central-united-rush-practice-u16/
END:VEVENT
BEGIN:VEVENT
DTSTART;TZID=America/Chicago:20260401T163000
DTEND;TZID=America/Chicago:20260401T180000
DTSTAMP:20260423T044902
CREATED:20260331T192129Z
LAST-MODIFIED:20260331T192208Z
UID:10000279-1775061000-1775066400@www.newcenturyacademy.com
SUMMARY:Central United Rush Practice U19
DESCRIPTION:Gym Reserved
URL:https://www.newcenturyacademy.com/event/central-united-rush-u19-practice/
END:VEVENT
BEGIN:VEVENT
DTSTART;TZID=America/Chicago:20260331T161500
DTEND;TZID=America/Chicago:20260331T171500
DTSTAMP:20260423T044902
CREATED:20260227T225351Z
LAST-MODIFIED:20260227T225351Z
UID:10000274-1774973700-1774977300@www.newcenturyacademy.com
SUMMARY:Private Basketball Rental
DESCRIPTION:DeRock Family
URL:https://www.newcenturyacademy.com/event/private-basketball-rental/2026-03-31/
END:VEVENT
BEGIN:VEVENT
DTSTART;TZID=America/Chicago:20260330T173000
DTEND;TZID=America/Chicago:20260330T190000
DTSTAMP:20260423T044902
CREATED:20260203T174003Z
LAST-MODIFIED:20260409T193147Z
UID:10000245-1774891800-1774897200@www.newcenturyacademy.com
SUMMARY:HYBA(6th Grade) Basketball Practice
DESCRIPTION:Gym Reserved
URL:https://www.newcenturyacademy.com/event/hyba6th-grade-basketball-practice/2026-03-30/
END:VEVENT
BEGIN:VEVENT
DTSTART;TZID=America/Chicago:20260326T190000
DTEND;TZID=America/Chicago:20260326T203000
DTSTAMP:20260423T044902
CREATED:20260203T174003Z
LAST-MODIFIED:20260409T193147Z
UID:10000244-1774551600-1774557000@www.newcenturyacademy.com
SUMMARY:HYBA(6th Grade) Basketball Practice
DESCRIPTION:Gym Reserved
URL:https://www.newcenturyacademy.com/event/hyba6th-grade-basketball-practice/2026-03-26/
END:VEVENT
BEGIN:VEVENT
DTSTART;TZID=America/Chicago:20260326T173000
DTEND;TZID=America/Chicago:20260326T190000
DTSTAMP:20260423T044902
CREATED:20260122T154048Z
LAST-MODIFIED:20260122T154048Z
UID:10000226-1774546200-1774551600@www.newcenturyacademy.com
SUMMARY:HYBA(5th Grade) Basketball Practice
DESCRIPTION:Gym Reserved
URL:https://www.newcenturyacademy.com/event/hyba5th-grade-basketball-practice-5/2026-03-26/
END:VEVENT
BEGIN:VEVENT
DTSTART;TZID=America/Chicago:20260325T161500
DTEND;TZID=America/Chicago:20260325T171500
DTSTAMP:20260423T044902
CREATED:20260227T225351Z
LAST-MODIFIED:20260227T225351Z
UID:10000273-1774455300-1774458900@www.newcenturyacademy.com
SUMMARY:Private Basketball Rental
DESCRIPTION:DeRock Family
URL:https://www.newcenturyacademy.com/event/private-basketball-rental/2026-03-25/
END:VEVENT
BEGIN:VEVENT
DTSTART;TZID=America/Chicago:20260324T173000
DTEND;TZID=America/Chicago:20260324T190000
DTSTAMP:20260423T044902
CREATED:20260122T154048Z
LAST-MODIFIED:20260122T154048Z
UID:10000225-1774373400-1774378800@www.newcenturyacademy.com
SUMMARY:HYBA(5th Grade) Basketball Practice
DESCRIPTION:Gym Reserved
URL:https://www.newcenturyacademy.com/event/hyba5th-grade-basketball-practice-5/2026-03-24/
END:VEVENT
BEGIN:VEVENT
DTSTART;TZID=America/Chicago:20260324T161500
DTEND;TZID=America/Chicago:20260324T171500
DTSTAMP:20260423T044902
CREATED:20260227T225351Z
LAST-MODIFIED:20260227T225351Z
UID:10000272-1774368900-1774372500@www.newcenturyacademy.com
SUMMARY:Private Basketball Rental
DESCRIPTION:DeRock Family
URL:https://www.newcenturyacademy.com/event/private-basketball-rental/2026-03-24/
END:VEVENT
BEGIN:VEVENT
DTSTART;TZID=America/Chicago:20260323T173000
DTEND;TZID=America/Chicago:20260323T190000
DTSTAMP:20260423T044902
CREATED:20260203T174003Z
LAST-MODIFIED:20260409T193147Z
UID:10000243-1774287000-1774292400@www.newcenturyacademy.com
SUMMARY:HYBA(6th Grade) Basketball Practice
DESCRIPTION:Gym Reserved
URL:https://www.newcenturyacademy.com/event/hyba6th-grade-basketball-practice/2026-03-23/
END:VEVENT
BEGIN:VEVENT
DTSTART;TZID=America/Chicago:20260322T160000
DTEND;TZID=America/Chicago:20260322T173000
DTSTAMP:20260423T044902
CREATED:20260219T182618Z
LAST-MODIFIED:20260219T182618Z
UID:10000268-1774195200-1774200600@www.newcenturyacademy.com
SUMMARY:HYBA (7th Grade) Year-end Gathering
DESCRIPTION:Gym and Cafeteria Reserved
URL:https://www.newcenturyacademy.com/event/hyba-7th-grade-year-end-gathering/
END:VEVENT
BEGIN:VEVENT
DTSTART;TZID=America/Chicago:20260320T161500
DTEND;TZID=America/Chicago:20260320T171500
DTSTAMP:20260423T044902
CREATED:20260227T225351Z
LAST-MODIFIED:20260227T225351Z
UID:10000271-1774023300-1774026900@www.newcenturyacademy.com
SUMMARY:Private Basketball Rental
DESCRIPTION:DeRock Family
URL:https://www.newcenturyacademy.com/event/private-basketball-rental/2026-03-20/
END:VEVENT
BEGIN:VEVENT
DTSTART;TZID=America/Chicago:20260319T190000
DTEND;TZID=America/Chicago:20260319T203000
DTSTAMP:20260423T044902
CREATED:20260203T174003Z
LAST-MODIFIED:20260409T193147Z
UID:10000242-1773946800-1773952200@www.newcenturyacademy.com
SUMMARY:HYBA(6th Grade) Basketball Practice
DESCRIPTION:Gym Reserved
URL:https://www.newcenturyacademy.com/event/hyba6th-grade-basketball-practice/2026-03-19/
END:VEVENT
BEGIN:VEVENT
DTSTART;TZID=America/Chicago:20260319T173000
DTEND;TZID=America/Chicago:20260319T190000
DTSTAMP:20260423T044902
CREATED:20260122T154048Z
LAST-MODIFIED:20260122T154048Z
UID:10000224-1773941400-1773946800@www.newcenturyacademy.com
SUMMARY:HYBA(5th Grade) Basketball Practice
DESCRIPTION:Gym Reserved
URL:https://www.newcenturyacademy.com/event/hyba5th-grade-basketball-practice-5/2026-03-19/
END:VEVENT
BEGIN:VEVENT
DTSTART;TZID=America/Chicago:20260319T161500
DTEND;TZID=America/Chicago:20260319T171500
DTSTAMP:20260423T044902
CREATED:20260227T225351Z
LAST-MODIFIED:20260227T225351Z
UID:10000270-1773936900-1773940500@www.newcenturyacademy.com
SUMMARY:Private Basketball Rental
DESCRIPTION:DeRock Family
URL:https://www.newcenturyacademy.com/event/private-basketball-rental/2026-03-19/
END:VEVENT
BEGIN:VEVENT
DTSTART;TZID=America/Chicago:20260319T151500
DTEND;TZID=America/Chicago:20260319T160000
DTSTAMP:20260423T044902
CREATED:20260122T155523Z
LAST-MODIFIED:20260122T155817Z
UID:10000233-1773933300-1773936000@www.newcenturyacademy.com
SUMMARY:Special Olympics Activity
DESCRIPTION:Gym Reserved
URL:https://www.newcenturyacademy.com/event/special-olympics-activity/2026-03-19/
END:VEVENT
BEGIN:VEVENT
DTSTART;TZID=America/Chicago:20260317T190000
DTEND;TZID=America/Chicago:20260317T203000
DTSTAMP:20260423T044902
CREATED:20260305T164527Z
LAST-MODIFIED:20260305T164527Z
UID:10000275-1773774000-1773779400@www.newcenturyacademy.com
SUMMARY:HYSA Soccer Practice
DESCRIPTION:Gym Reserved
URL:https://www.newcenturyacademy.com/event/hysa-soccer-practice/
END:VEVENT
BEGIN:VEVENT
DTSTART;TZID=America/Chicago:20260317T173000
DTEND;TZID=America/Chicago:20260317T190000
DTSTAMP:20260423T044902
CREATED:20260122T154048Z
LAST-MODIFIED:20260122T154048Z
UID:10000223-1773768600-1773774000@www.newcenturyacademy.com
SUMMARY:HYBA(5th Grade) Basketball Practice
DESCRIPTION:Gym Reserved
URL:https://www.newcenturyacademy.com/event/hyba5th-grade-basketball-practice-5/2026-03-17/
END:VEVENT
BEGIN:VEVENT
DTSTART;TZID=America/Chicago:20260316T173000
DTEND;TZID=America/Chicago:20260316T190000
DTSTAMP:20260423T044902
CREATED:20260203T174003Z
LAST-MODIFIED:20260409T193147Z
UID:10000241-1773682200-1773687600@www.newcenturyacademy.com
SUMMARY:HYBA(6th Grade) Basketball Practice
DESCRIPTION:Gym Reserved
URL:https://www.newcenturyacademy.com/event/hyba6th-grade-basketball-practice/2026-03-16/
END:VEVENT
BEGIN:VEVENT
DTSTART;TZID=America/Chicago:20260312T151500
DTEND;TZID=America/Chicago:20260312T160000
DTSTAMP:20260423T044902
CREATED:20260122T155523Z
LAST-MODIFIED:20260122T155817Z
UID:10000232-1773328500-1773331200@www.newcenturyacademy.com
SUMMARY:Special Olympics Activity
DESCRIPTION:Gym Reserved
URL:https://www.newcenturyacademy.com/event/special-olympics-activity/2026-03-12/
END:VEVENT
BEGIN:VEVENT
DTSTART;TZID=America/Chicago:20260305T173000
DTEND;TZID=America/Chicago:20260305T190000
DTSTAMP:20260423T044902
CREATED:20260122T154048Z
LAST-MODIFIED:20260122T154048Z
UID:10000222-1772731800-1772737200@www.newcenturyacademy.com
SUMMARY:HYBA(5th Grade) Basketball Practice
DESCRIPTION:Gym Reserved
URL:https://www.newcenturyacademy.com/event/hyba5th-grade-basketball-practice-5/2026-03-05/
END:VEVENT
BEGIN:VEVENT
DTSTART;TZID=America/Chicago:20260305T151500
DTEND;TZID=America/Chicago:20260305T160000
DTSTAMP:20260423T044902
CREATED:20260122T155523Z
LAST-MODIFIED:20260122T155817Z
UID:10000231-1772723700-1772726400@www.newcenturyacademy.com
SUMMARY:Special Olympics Activity
DESCRIPTION:Gym Reserved
URL:https://www.newcenturyacademy.com/event/special-olympics-activity/2026-03-05/
END:VEVENT
BEGIN:VEVENT
DTSTART;TZID=America/Chicago:20260303T173000
DTEND;TZID=America/Chicago:20260303T190000
DTSTAMP:20260423T044902
CREATED:20260122T154048Z
LAST-MODIFIED:20260122T154048Z
UID:10000221-1772559000-1772564400@www.newcenturyacademy.com
SUMMARY:HYBA(5th Grade) Basketball Practice
DESCRIPTION:Gym Reserved
URL:https://www.newcenturyacademy.com/event/hyba5th-grade-basketball-practice-5/2026-03-03/
END:VEVENT
BEGIN:VEVENT
DTSTART;TZID=America/Chicago:20260303T161500
DTEND;TZID=America/Chicago:20260303T171500
DTSTAMP:20260423T044902
CREATED:20260227T225351Z
LAST-MODIFIED:20260227T225351Z
UID:10000269-1772554500-1772558100@www.newcenturyacademy.com
SUMMARY:Private Basketball Rental
DESCRIPTION:DeRock Family
URL:https://www.newcenturyacademy.com/event/private-basketball-rental/2026-03-03/
END:VEVENT
BEGIN:VEVENT
DTSTART;TZID=America/Chicago:20260226T173000
DTEND;TZID=America/Chicago:20260226T190000
DTSTAMP:20260423T044902
CREATED:20250922T193952Z
LAST-MODIFIED:20250922T193952Z
UID:10000202-1772127000-1772132400@www.newcenturyacademy.com
SUMMARY:HYBA(5th Grade) Basketball Practice
DESCRIPTION:Gym Reserved
URL:https://www.newcenturyacademy.com/event/hyba5th-grade-basketball-practice-4/2026-02-26/
END:VEVENT
BEGIN:VEVENT
DTSTART;TZID=America/Chicago:20260226T151500
DTEND;TZID=America/Chicago:20260226T160000
DTSTAMP:20260423T044902
CREATED:20260122T155523Z
LAST-MODIFIED:20260122T155817Z
UID:10000230-1772118900-1772121600@www.newcenturyacademy.com
SUMMARY:Special Olympics Activity
DESCRIPTION:Gym Reserved
URL:https://www.newcenturyacademy.com/event/special-olympics-activity/2026-02-26/
END:VEVENT
BEGIN:VEVENT
DTSTART;TZID=America/Chicago:20260223T173000
DTEND;TZID=America/Chicago:20260223T190000
DTSTAMP:20260423T044902
CREATED:20250922T193952Z
LAST-MODIFIED:20250922T193952Z
UID:10000201-1771867800-1771873200@www.newcenturyacademy.com
SUMMARY:HYBA(5th Grade) Basketball Practice
DESCRIPTION:Gym Reserved
URL:https://www.newcenturyacademy.com/event/hyba5th-grade-basketball-practice-4/2026-02-23/
END:VEVENT
BEGIN:VEVENT
DTSTART;TZID=America/Chicago:20260220T173000
DTEND;TZID=America/Chicago:20260220T183000
DTSTAMP:20260423T044902
CREATED:20260211T172223Z
LAST-MODIFIED:20260211T172223Z
UID:10000266-1771608600-1771612200@www.newcenturyacademy.com
SUMMARY:HYBA (4th Grade) Basketball Practice
DESCRIPTION:Gym Reserved
URL:https://www.newcenturyacademy.com/event/hyba-4th-grade-basketball-practice-2/
END:VEVENT
BEGIN:VEVENT
DTSTART;TZID=America/Chicago:20260219T173000
DTEND;TZID=America/Chicago:20260219T190000
DTSTAMP:20260423T044902
CREATED:20250922T193952Z
LAST-MODIFIED:20250922T193952Z
UID:10000200-1771522200-1771527600@www.newcenturyacademy.com
SUMMARY:HYBA(5th Grade) Basketball Practice
DESCRIPTION:Gym Reserved
URL:https://www.newcenturyacademy.com/event/hyba5th-grade-basketball-practice-4/2026-02-19/
END:VEVENT
BEGIN:VEVENT
DTSTART;TZID=America/Chicago:20260219T151500
DTEND;TZID=America/Chicago:20260219T160000
DTSTAMP:20260423T044902
CREATED:20260122T155523Z
LAST-MODIFIED:20260122T155817Z
UID:10000229-1771514100-1771516800@www.newcenturyacademy.com
SUMMARY:Special Olympics Activity
DESCRIPTION:Gym Reserved
URL:https://www.newcenturyacademy.com/event/special-olympics-activity/2026-02-19/
END:VEVENT
END:VCALENDAR